BEGIN:VCALENDAR
VERSION:2.0
PRODID:-//NYPD Pulaski - ECPv6.15.20//NONSGML v1.0//EN
CALSCALE:GREGORIAN
METHOD:PUBLISH
X-WR-CALNAME:NYPD Pulaski
X-ORIGINAL-URL:https://nypdpulaski.org
X-WR-CALDESC:Events for NYPD Pulaski
REFRESH-INTERVAL;VALUE=DURATION:PT1H
X-Robots-Tag:noindex
X-PUBLISHED-TTL:PT1H
BEGIN:VTIMEZONE
TZID:UTC
BEGIN:STANDARD
TZOFFSETFROM:+0000
TZOFFSETTO:+0000
TZNAME:UTC
DTSTART:20180101T000000
END:STANDARD
END:VTIMEZONE
BEGIN:VEVENT
DTSTART;TZID=UTC:20240221T190000
DTEND;TZID=UTC:20240221T220000
DTSTAMP:20260424T113007
CREATED:20240217T180721Z
LAST-MODIFIED:20240217T181805Z
UID:16102-1708542000-1708552800@nypdpulaski.org
SUMMARY:Pulaski Association February General Membership Meeting
DESCRIPTION:
URL:https://nypdpulaski.org/event/pulaski-association-66th-annual-recognition-and-scholarship-awards-dinner-dance/
LOCATION:Frank Kowalinski Post #4\, 61-57 Maspeth Avenue\, Maspeth\, NY\, 11378\, United States
CATEGORIES:General Membership Meeting
ORGANIZER;CN="NYPD Pulaski Association":MAILTO:mail@nypdpulaski.org
END:VEVENT
BEGIN:VEVENT
DTSTART;TZID=UTC:20211020T190000
DTEND;TZID=UTC:20211020T220000
DTSTAMP:20260424T113007
CREATED:20150925T203540Z
LAST-MODIFIED:20150925T203540Z
UID:1742-1634756400-1634767200@nypdpulaski.org
SUMMARY:Membership Meeting
DESCRIPTION:
URL:https://nypdpulaski.org/event/membership-meeting-2-2021-10-20/
LOCATION:Frank Kowalinski Post #4\, 61-57 Maspeth Avenue\, Maspeth\, NY\, 11378\, United States
ORGANIZER;CN="NYPD Pulaski Association":MAILTO:mail@nypdpulaski.org
END:VEVENT
BEGIN:VEVENT
DTSTART;TZID=UTC:20211003T103000
DTEND;TZID=UTC:20211003T170000
DTSTAMP:20260424T113007
CREATED:20150925T202015Z
LAST-MODIFIED:20150925T202015Z
UID:1616-1633257000-1633280400@nypdpulaski.org
SUMMARY:Pulaski Day Parade
DESCRIPTION:
URL:https://nypdpulaski.org/event/pulaski-day-parade-2021-10-03/
LOCATION:Frank Kowalinski Post #4\, 61-57 Maspeth Avenue\, Maspeth\, NY\, 11378\, United States
CATEGORIES:Parade
ORGANIZER;CN="NYPD Pulaski Association":MAILTO:mail@nypdpulaski.org
END:VEVENT
BEGIN:VEVENT
DTSTART;TZID=UTC:20211002T100000
DTEND;TZID=UTC:20211002T170000
DTSTAMP:20260424T113007
CREATED:20160111T025106Z
LAST-MODIFIED:20160111T025106Z
UID:1603-1633168800-1633194000@nypdpulaski.org
SUMMARY:60th Annual NYC Pulaski Day Parade
DESCRIPTION:
URL:https://nypdpulaski.org/event/60th-annual-nyc-pulaski-day-parade-2021-10-02/
LOCATION:NY
CATEGORIES:Parade
ORGANIZER;CN="NYPD Pulaski Association":MAILTO:mail@nypdpulaski.org
END:VEVENT
BEGIN:VEVENT
DTSTART;TZID=UTC:20210915T190000
DTEND;TZID=UTC:20210915T220000
DTSTAMP:20260424T113007
CREATED:20150925T203540Z
LAST-MODIFIED:20150925T203540Z
UID:1486-1631732400-1631743200@nypdpulaski.org
SUMMARY:Membership Meeting
DESCRIPTION:
URL:https://nypdpulaski.org/event/membership-meeting-2-2021-09-15/
LOCATION:Frank Kowalinski Post #4\, 61-57 Maspeth Avenue\, Maspeth\, NY\, 11378\, United States
ORGANIZER;CN="NYPD Pulaski Association":MAILTO:mail@nypdpulaski.org
END:VEVENT
BEGIN:VEVENT
DTSTART;TZID=UTC:20210818T190000
DTEND;TZID=UTC:20210818T220000
DTSTAMP:20260424T113007
CREATED:20150925T203540Z
LAST-MODIFIED:20150925T203540Z
UID:1283-1629313200-1629324000@nypdpulaski.org
SUMMARY:Membership Meeting
DESCRIPTION:
URL:https://nypdpulaski.org/event/membership-meeting-2-2021-08-18/
LOCATION:Frank Kowalinski Post #4\, 61-57 Maspeth Avenue\, Maspeth\, NY\, 11378\, United States
ORGANIZER;CN="NYPD Pulaski Association":MAILTO:mail@nypdpulaski.org
END:VEVENT
BEGIN:VEVENT
DTSTART;TZID=UTC:20210721T190000
DTEND;TZID=UTC:20210721T220000
DTSTAMP:20260424T113007
CREATED:20150925T203540Z
LAST-MODIFIED:20150925T203540Z
UID:1073-1626894000-1626904800@nypdpulaski.org
SUMMARY:Membership Meeting
DESCRIPTION:
URL:https://nypdpulaski.org/event/membership-meeting-2-2021-07-21/
LOCATION:Frank Kowalinski Post #4\, 61-57 Maspeth Avenue\, Maspeth\, NY\, 11378\, United States
ORGANIZER;CN="NYPD Pulaski Association":MAILTO:mail@nypdpulaski.org
END:VEVENT
BEGIN:VEVENT
DTSTART;TZID=UTC:20210616T190000
DTEND;TZID=UTC:20210616T220000
DTSTAMP:20260424T113007
CREATED:20150925T203540Z
LAST-MODIFIED:20150925T203540Z
UID:1020-1623870000-1623880800@nypdpulaski.org
SUMMARY:Membership Meeting
DESCRIPTION:
URL:https://nypdpulaski.org/event/membership-meeting-2-2021-06-16/
LOCATION:Frank Kowalinski Post #4\, 61-57 Maspeth Avenue\, Maspeth\, NY\, 11378\, United States
ORGANIZER;CN="NYPD Pulaski Association":MAILTO:mail@nypdpulaski.org
END:VEVENT
BEGIN:VEVENT
DTSTART;TZID=UTC:20210519T190000
DTEND;TZID=UTC:20210519T220000
DTSTAMP:20260424T113007
CREATED:20150925T203540Z
LAST-MODIFIED:20150925T203540Z
UID:998-1621450800-1621461600@nypdpulaski.org
SUMMARY:Membership Meeting
DESCRIPTION:
URL:https://nypdpulaski.org/event/membership-meeting-2-2021-05-19/
LOCATION:Frank Kowalinski Post #4\, 61-57 Maspeth Avenue\, Maspeth\, NY\, 11378\, United States
ORGANIZER;CN="NYPD Pulaski Association":MAILTO:mail@nypdpulaski.org
END:VEVENT
BEGIN:VEVENT
DTSTART;TZID=UTC:20210421T190000
DTEND;TZID=UTC:20210421T220000
DTSTAMP:20260424T113007
CREATED:20150925T203540Z
LAST-MODIFIED:20150925T203540Z
UID:935-1619031600-1619042400@nypdpulaski.org
SUMMARY:Membership Meeting
DESCRIPTION:
URL:https://nypdpulaski.org/event/membership-meeting-2-2021-04-21/
LOCATION:Frank Kowalinski Post #4\, 61-57 Maspeth Avenue\, Maspeth\, NY\, 11378\, United States
ORGANIZER;CN="NYPD Pulaski Association":MAILTO:mail@nypdpulaski.org
END:VEVENT
BEGIN:VEVENT
DTSTART;TZID=UTC:20210317T190000
DTEND;TZID=UTC:20210317T220000
DTSTAMP:20260424T113007
CREATED:20150925T203540Z
LAST-MODIFIED:20150925T203540Z
UID:896-1616007600-1616018400@nypdpulaski.org
SUMMARY:Membership Meeting
DESCRIPTION:
URL:https://nypdpulaski.org/event/membership-meeting-2-2021-03-17/
LOCATION:Frank Kowalinski Post #4\, 61-57 Maspeth Avenue\, Maspeth\, NY\, 11378\, United States
ORGANIZER;CN="NYPD Pulaski Association":MAILTO:mail@nypdpulaski.org
END:VEVENT
BEGIN:VEVENT
DTSTART;TZID=UTC:20210217T190000
DTEND;TZID=UTC:20210217T220000
DTSTAMP:20260424T113007
CREATED:20150925T203540Z
LAST-MODIFIED:20150925T203540Z
UID:857-1613588400-1613599200@nypdpulaski.org
SUMMARY:Membership Meeting
DESCRIPTION:
URL:https://nypdpulaski.org/event/membership-meeting-2-2021-02-17/
LOCATION:Frank Kowalinski Post #4\, 61-57 Maspeth Avenue\, Maspeth\, NY\, 11378\, United States
ORGANIZER;CN="NYPD Pulaski Association":MAILTO:mail@nypdpulaski.org
END:VEVENT
BEGIN:VEVENT
DTSTART;TZID=UTC:20210120T190000
DTEND;TZID=UTC:20210120T220000
DTSTAMP:20260424T113007
CREATED:20150925T203540Z
LAST-MODIFIED:20150925T203540Z
UID:810-1611169200-1611180000@nypdpulaski.org
SUMMARY:Membership Meeting
DESCRIPTION:
URL:https://nypdpulaski.org/event/membership-meeting-2-2021-01-20/
LOCATION:Frank Kowalinski Post #4\, 61-57 Maspeth Avenue\, Maspeth\, NY\, 11378\, United States
ORGANIZER;CN="NYPD Pulaski Association":MAILTO:mail@nypdpulaski.org
END:VEVENT
BEGIN:VEVENT
DTSTART;TZID=UTC:20201216T190000
DTEND;TZID=UTC:20201216T220000
DTSTAMP:20260424T113007
CREATED:20150925T203540Z
LAST-MODIFIED:20150925T203540Z
UID:730-1608145200-1608156000@nypdpulaski.org
SUMMARY:Membership Meeting
DESCRIPTION:
URL:https://nypdpulaski.org/event/membership-meeting-2-2020-12-16/
LOCATION:Frank Kowalinski Post #4\, 61-57 Maspeth Avenue\, Maspeth\, NY\, 11378\, United States
ORGANIZER;CN="NYPD Pulaski Association":MAILTO:mail@nypdpulaski.org
END:VEVENT
BEGIN:VEVENT
DTSTART;TZID=UTC:20201118T190000
DTEND;TZID=UTC:20201118T220000
DTSTAMP:20260424T113007
CREATED:20150925T203540Z
LAST-MODIFIED:20150925T203540Z
UID:723-1605726000-1605736800@nypdpulaski.org
SUMMARY:Membership Meeting
DESCRIPTION:
URL:https://nypdpulaski.org/event/membership-meeting-2-2020-11-18/
LOCATION:Frank Kowalinski Post #4\, 61-57 Maspeth Avenue\, Maspeth\, NY\, 11378\, United States
ORGANIZER;CN="NYPD Pulaski Association":MAILTO:mail@nypdpulaski.org
END:VEVENT
BEGIN:VEVENT
DTSTART;TZID=UTC:20201021T190000
DTEND;TZID=UTC:20201021T220000
DTSTAMP:20260424T113007
CREATED:20150925T203540Z
LAST-MODIFIED:20150925T203540Z
UID:702-1603306800-1603317600@nypdpulaski.org
SUMMARY:Membership Meeting
DESCRIPTION:
URL:https://nypdpulaski.org/event/membership-meeting-2-2020-10-21/
LOCATION:Frank Kowalinski Post #4\, 61-57 Maspeth Avenue\, Maspeth\, NY\, 11378\, United States
ORGANIZER;CN="NYPD Pulaski Association":MAILTO:mail@nypdpulaski.org
END:VEVENT
BEGIN:VEVENT
DTSTART;TZID=UTC:20201004T103000
DTEND;TZID=UTC:20201004T170000
DTSTAMP:20260424T113007
CREATED:20150925T202015Z
LAST-MODIFIED:20150925T202015Z
UID:694-1601807400-1601830800@nypdpulaski.org
SUMMARY:Pulaski Day Parade
DESCRIPTION:
URL:https://nypdpulaski.org/event/pulaski-day-parade-2020-10-04/
LOCATION:Frank Kowalinski Post #4\, 61-57 Maspeth Avenue\, Maspeth\, NY\, 11378\, United States
CATEGORIES:Parade
ORGANIZER;CN="NYPD Pulaski Association":MAILTO:mail@nypdpulaski.org
END:VEVENT
BEGIN:VEVENT
DTSTART;TZID=UTC:20201002T100000
DTEND;TZID=UTC:20201002T170000
DTSTAMP:20260424T113007
CREATED:20160111T025106Z
LAST-MODIFIED:20160111T025106Z
UID:691-1601632800-1601658000@nypdpulaski.org
SUMMARY:60th Annual NYC Pulaski Day Parade
DESCRIPTION:
URL:https://nypdpulaski.org/event/60th-annual-nyc-pulaski-day-parade-2020-10-02/
LOCATION:NY
CATEGORIES:Parade
ORGANIZER;CN="NYPD Pulaski Association":MAILTO:mail@nypdpulaski.org
END:VEVENT
BEGIN:VEVENT
DTSTART;TZID=UTC:20200916T190000
DTEND;TZID=UTC:20200916T220000
DTSTAMP:20260424T113007
CREATED:20150925T203540Z
LAST-MODIFIED:20150925T203540Z
UID:685-1600282800-1600293600@nypdpulaski.org
SUMMARY:Membership Meeting
DESCRIPTION:
URL:https://nypdpulaski.org/event/membership-meeting-2-2020-09-16/
LOCATION:Frank Kowalinski Post #4\, 61-57 Maspeth Avenue\, Maspeth\, NY\, 11378\, United States
ORGANIZER;CN="NYPD Pulaski Association":MAILTO:mail@nypdpulaski.org
END:VEVENT
BEGIN:VEVENT
DTSTART;TZID=UTC:20200819T190000
DTEND;TZID=UTC:20200819T220000
DTSTAMP:20260424T113007
CREATED:20150925T203540Z
LAST-MODIFIED:20150925T203540Z
UID:682-1597863600-1597874400@nypdpulaski.org
SUMMARY:Membership Meeting
DESCRIPTION:
URL:https://nypdpulaski.org/event/membership-meeting-2-2020-08-19/
LOCATION:Frank Kowalinski Post #4\, 61-57 Maspeth Avenue\, Maspeth\, NY\, 11378\, United States
ORGANIZER;CN="NYPD Pulaski Association":MAILTO:mail@nypdpulaski.org
END:VEVENT
BEGIN:VEVENT
DTSTART;TZID=UTC:20200715T190000
DTEND;TZID=UTC:20200715T220000
DTSTAMP:20260424T113007
CREATED:20150925T203540Z
LAST-MODIFIED:20150925T203540Z
UID:677-1594839600-1594850400@nypdpulaski.org
SUMMARY:Membership Meeting
DESCRIPTION:
URL:https://nypdpulaski.org/event/membership-meeting-2-2020-07-15/
LOCATION:Frank Kowalinski Post #4\, 61-57 Maspeth Avenue\, Maspeth\, NY\, 11378\, United States
ORGANIZER;CN="NYPD Pulaski Association":MAILTO:mail@nypdpulaski.org
END:VEVENT
BEGIN:VEVENT
DTSTART;TZID=UTC:20200617T190000
DTEND;TZID=UTC:20200617T220000
DTSTAMP:20260424T113007
CREATED:20150925T203540Z
LAST-MODIFIED:20150925T203540Z
UID:671-1592420400-1592431200@nypdpulaski.org
SUMMARY:Membership Meeting
DESCRIPTION:
URL:https://nypdpulaski.org/event/membership-meeting-2-2020-06-17/
LOCATION:Frank Kowalinski Post #4\, 61-57 Maspeth Avenue\, Maspeth\, NY\, 11378\, United States
ORGANIZER;CN="NYPD Pulaski Association":MAILTO:mail@nypdpulaski.org
END:VEVENT
BEGIN:VEVENT
DTSTART;TZID=UTC:20200520T190000
DTEND;TZID=UTC:20200520T220000
DTSTAMP:20260424T113007
CREATED:20150925T203540Z
LAST-MODIFIED:20150925T203540Z
UID:667-1590001200-1590012000@nypdpulaski.org
SUMMARY:Membership Meeting
DESCRIPTION:
URL:https://nypdpulaski.org/event/membership-meeting-2-2020-05-20/
LOCATION:Frank Kowalinski Post #4\, 61-57 Maspeth Avenue\, Maspeth\, NY\, 11378\, United States
ORGANIZER;CN="NYPD Pulaski Association":MAILTO:mail@nypdpulaski.org
END:VEVENT
BEGIN:VEVENT
DTSTART;TZID=UTC:20200415T190000
DTEND;TZID=UTC:20200415T220000
DTSTAMP:20260424T113007
CREATED:20150925T203540Z
LAST-MODIFIED:20150925T203540Z
UID:661-1586977200-1586988000@nypdpulaski.org
SUMMARY:Membership Meeting
DESCRIPTION:
URL:https://nypdpulaski.org/event/membership-meeting-2-2020-04-15/
LOCATION:Frank Kowalinski Post #4\, 61-57 Maspeth Avenue\, Maspeth\, NY\, 11378\, United States
ORGANIZER;CN="NYPD Pulaski Association":MAILTO:mail@nypdpulaski.org
END:VEVENT
BEGIN:VEVENT
DTSTART;TZID=UTC:20200318T190000
DTEND;TZID=UTC:20200318T220000
DTSTAMP:20260424T113007
CREATED:20150925T203540Z
LAST-MODIFIED:20150925T203540Z
UID:659-1584558000-1584568800@nypdpulaski.org
SUMMARY:Membership Meeting
DESCRIPTION:
URL:https://nypdpulaski.org/event/membership-meeting-2-2020-03-18/
LOCATION:Frank Kowalinski Post #4\, 61-57 Maspeth Avenue\, Maspeth\, NY\, 11378\, United States
ORGANIZER;CN="NYPD Pulaski Association":MAILTO:mail@nypdpulaski.org
END:VEVENT
BEGIN:VEVENT
DTSTART;TZID=UTC:20200219T190000
DTEND;TZID=UTC:20200219T220000
DTSTAMP:20260424T113007
CREATED:20150925T203540Z
LAST-MODIFIED:20150925T203540Z
UID:656-1582138800-1582149600@nypdpulaski.org
SUMMARY:Membership Meeting
DESCRIPTION:
URL:https://nypdpulaski.org/event/membership-meeting-2-2020-02-19/
LOCATION:Frank Kowalinski Post #4\, 61-57 Maspeth Avenue\, Maspeth\, NY\, 11378\, United States
ORGANIZER;CN="NYPD Pulaski Association":MAILTO:mail@nypdpulaski.org
END:VEVENT
BEGIN:VEVENT
DTSTART;TZID=UTC:20200115T190000
DTEND;TZID=UTC:20200115T220000
DTSTAMP:20260424T113007
CREATED:20150925T203540Z
LAST-MODIFIED:20150925T203540Z
UID:654-1579114800-1579125600@nypdpulaski.org
SUMMARY:Membership Meeting
DESCRIPTION:
URL:https://nypdpulaski.org/event/membership-meeting-2-2020-01-15/
LOCATION:Frank Kowalinski Post #4\, 61-57 Maspeth Avenue\, Maspeth\, NY\, 11378\, United States
ORGANIZER;CN="NYPD Pulaski Association":MAILTO:mail@nypdpulaski.org
END:VEVENT
BEGIN:VEVENT
DTSTART;TZID=UTC:20191218T190000
DTEND;TZID=UTC:20191218T220000
DTSTAMP:20260424T113007
CREATED:20150925T203540Z
LAST-MODIFIED:20150925T203540Z
UID:653-1576695600-1576706400@nypdpulaski.org
SUMMARY:Membership Meeting
DESCRIPTION:
URL:https://nypdpulaski.org/event/membership-meeting-2-2019-12-18/
LOCATION:Frank Kowalinski Post #4\, 61-57 Maspeth Avenue\, Maspeth\, NY\, 11378\, United States
ORGANIZER;CN="NYPD Pulaski Association":MAILTO:mail@nypdpulaski.org
END:VEVENT
BEGIN:VEVENT
DTSTART;TZID=UTC:20191120T190000
DTEND;TZID=UTC:20191120T220000
DTSTAMP:20260424T113007
CREATED:20150925T203540Z
LAST-MODIFIED:20150925T203540Z
UID:651-1574276400-1574287200@nypdpulaski.org
SUMMARY:Membership Meeting
DESCRIPTION:
URL:https://nypdpulaski.org/event/membership-meeting-2-2019-11-20/
LOCATION:Frank Kowalinski Post #4\, 61-57 Maspeth Avenue\, Maspeth\, NY\, 11378\, United States
ORGANIZER;CN="NYPD Pulaski Association":MAILTO:mail@nypdpulaski.org
END:VEVENT
BEGIN:VEVENT
DTSTART;TZID=UTC:20191016T190000
DTEND;TZID=UTC:20191016T220000
DTSTAMP:20260424T113007
CREATED:20150925T203540Z
LAST-MODIFIED:20150925T203540Z
UID:645-1571252400-1571263200@nypdpulaski.org
SUMMARY:Membership Meeting
DESCRIPTION:
URL:https://nypdpulaski.org/event/membership-meeting-2-2019-10-16/
LOCATION:Frank Kowalinski Post #4\, 61-57 Maspeth Avenue\, Maspeth\, NY\, 11378\, United States
ORGANIZER;CN="NYPD Pulaski Association":MAILTO:mail@nypdpulaski.org
END:VEVENT
END:VCALENDAR