BEGIN:VCALENDAR
VERSION:2.0
PRODID:-//NYPD Pulaski - ECPv6.15.20//NONSGML v1.0//EN
CALSCALE:GREGORIAN
METHOD:PUBLISH
X-WR-CALNAME:NYPD Pulaski
X-ORIGINAL-URL:https://nypdpulaski.org
X-WR-CALDESC:Events for NYPD Pulaski
REFRESH-INTERVAL;VALUE=DURATION:PT1H
X-Robots-Tag:noindex
X-PUBLISHED-TTL:PT1H
BEGIN:VTIMEZONE
TZID:UTC
BEGIN:STANDARD
TZOFFSETFROM:+0000
TZOFFSETTO:+0000
TZNAME:UTC
DTSTART:20140101T000000
END:STANDARD
END:VTIMEZONE
BEGIN:VEVENT
DTSTART;TZID=UTC:20161019T093000
DTEND;TZID=UTC:20161019T120000
DTSTAMP:20260423T233816
CREATED:20160111T025239Z
LAST-MODIFIED:20160111T025239Z
UID:457-1476869400-1476878400@nypdpulaski.org
SUMMARY:Police Officer Michael J. Buczek Memorial Mass
DESCRIPTION:
URL:https://nypdpulaski.org/event/police-officer-michael-j-buczek-memorial-mass/
LOCATION:P.S. 048 P.O. Michael J. Buczek School\, 4360 Broadway\, New York\, NY\, 10033\, United States
CATEGORIES:Memorial Mass
ORGANIZER;CN="NYPD Pulaski Association":MAILTO:mail@nypdpulaski.org
END:VEVENT
BEGIN:VEVENT
DTSTART;TZID=UTC:20151019T100000
DTEND;TZID=UTC:20151019T130000
DTSTAMP:20260423T233816
CREATED:20151005T023100Z
LAST-MODIFIED:20151005T023100Z
UID:427-1445248800-1445259600@nypdpulaski.org
SUMMARY:28th Annual P.O. Michael J. Buczek Memorial Mass
DESCRIPTION:https://www.facebook.com/BuczekFoundation \n 
URL:https://nypdpulaski.org/event/28th-annual-p-o-michael-j-buczek-memorial-mass/
LOCATION:P.S. 048 P.O. Michael J. Buczek School\, 4360 Broadway\, New York\, NY\, 10033\, United States
CATEGORIES:Memorial Mass
ORGANIZER;CN="The Police Officer Michael J. Buczek Foundation":MAILTO:michaelbuczeklittleleague@gmail.com
END:VEVENT
END:VCALENDAR