BEGIN:VCALENDAR
VERSION:2.0
PRODID:-//NYPD Pulaski - ECPv6.15.20//NONSGML v1.0//EN
CALSCALE:GREGORIAN
METHOD:PUBLISH
X-ORIGINAL-URL:https://nypdpulaski.org
X-WR-CALDESC:Events for NYPD Pulaski
REFRESH-INTERVAL;VALUE=DURATION:PT1H
X-Robots-Tag:noindex
X-PUBLISHED-TTL:PT1H
BEGIN:VTIMEZONE
TZID:UTC
BEGIN:STANDARD
TZOFFSETFROM:+0000
TZOFFSETTO:+0000
TZNAME:UTC
DTSTART:20150101T000000
END:STANDARD
END:VTIMEZONE
BEGIN:VEVENT
DTSTART;TZID=UTC:20160422T190000
DTEND;TZID=UTC:20160423T000000
DTSTAMP:20260424T080616
CREATED:20160111T024827Z
LAST-MODIFIED:20160111T024827Z
UID:453-1461351600-1461369600@nypdpulaski.org
SUMMARY:60th Anniversary Dinner Dance
DESCRIPTION:
URL:https://nypdpulaski.org/event/60th-anniversary-dinner-dance/
LOCATION:Leonards Palazzo\, Great Neck\, NY\, United States
CATEGORIES:60th Anniversary Dinner Dance
ORGANIZER;CN="NYPD Pulaski Association":MAILTO:mail@nypdpulaski.org
END:VEVENT
END:VCALENDAR